BEGIN:VCALENDAR
VERSION:2.0
PRODID:-//Tukios.com/
BEGIN:VEVENT
UID:2b24cdb6-bcfb-492f-801d-feb10b8d32b4@www.kcgoldengate.com
DTSTAMP:20260424T191709Z
DTSTART:20260521T190000Z
DTEND:20260521T200000Z
SUMMARY:Visitation
DESCRIPTION:
URL:https://www.kcgoldengate.com/obituaries/teresa-ashley
LOCATION:Golden Gate Funeral & Cremation Services LLC 2800 E 18th St  
	Kansas City MO 64127
GEO:39.090962;-94.549049
END:VEVENT
END:VCALENDAR