BEGIN:VCALENDAR
VERSION:2.0
PRODID:-//Tukios.com/
BEGIN:VEVENT
UID:cd394009-31b4-4efd-a51f-5a74439d3656@www.kcgoldengate.com
DTSTAMP:20260424T191840Z
DTSTART:20260521T200000Z
DTEND:20260521T210000Z
SUMMARY:Funeral Service
DESCRIPTION:
URL:https://www.kcgoldengate.com/obituaries/teresa-ashley
LOCATION:Golden Gate Funeral & Cremation Services LLC 2800 E 18th St  
	Kansas City MO 64127
GEO:39.090962;-94.549049
END:VEVENT
END:VCALENDAR